BEGIN:VCALENDAR
VERSION:2.0
PRODID:-//eventon.com NONSGML v1.0//EN
CALSCALE:GREGORIAN
METHOD:PUBLISH
BEGIN:VEVENT
UID:69ed0bef1ba2f
DTSTAMP:20260425T184607Z
DTSTART:20170708T160000Z
DTEND:20170708T205000Z
LOCATION:Cafe Taevas\,  Katariina allee 6
SUMMARY:HOME CONCERT
DESCRIPTION:Harmonium player Henrik Hinrikus\,  ticket 5€.\nhttps://voruf
 olkloor.ee/events/home-concert-5/?lang=en
URL:https://vorufolkloor.ee/events/home-concert-5/?lang=en
END:VEVENT
END:VCALENDAR