BEGIN:VCALENDAR
VERSION:2.0
PRODID:-//eventon.com NONSGML v1.0//EN
CALSCALE:GREGORIAN
METHOD:PUBLISH
BEGIN:VEVENT
UID:69ea0db6bd738
DTSTAMP:20260423T121654Z
DTSTART:20220709T160000Z
DTEND:20220709T164500Z
LOCATION:August Teppo Harmonium museum\,  Võru parish\,  Loosu
SUMMARY:DANCE PERFORMANCE “SUMMER MOMENT”
DESCRIPTION:DANCE PERFORMANCE “SUMMER MOMENT”\nhttps://vorufolkloor.ee/
 events/dance-performance-summer-moment/?lang=en
URL:https://vorufolkloor.ee/events/dance-performance-summer-moment/?lang=en
END:VEVENT
END:VCALENDAR