BEGIN:VCALENDAR
VERSION:2.0
PRODID:-//eventon.com NONSGML v1.0//EN
CALSCALE:GREGORIAN
METHOD:PUBLISH
BEGIN:VEVENT
UID:69e97c82b7df8
DTSTAMP:20260423T015722Z
DTSTART:20220710T080000Z
DTEND:20220710T110000Z
LOCATION:Central park of Võru
SUMMARY:Central park stage
DESCRIPTION:10.00 Setu choir &#8220;Helmekaala&#8221; 11.30 Folk-dance grou
 ps &#8220;Kannel&#8221; and &#8220;Siisik&#8221; 12.00 Dance workshop &#822
 0;Fashion Dances&#8221;. Dances are taught by Kadri Lepasson 13.00 Music gr
 oup &#8220;Kannel&#8221; 13.30 Latvian dance group &#8220;Rugaji&#8221; 14.
 00 Folklore ensemble &#8220;Liiso&#8221;\nhttps://vorufolkloor.ee/events/ce
 ntral-park-stage-7/?lang=en
URL:https://vorufolkloor.ee/events/central-park-stage-7/?lang=en
END:VEVENT
END:VCALENDAR