BEGIN:VCALENDAR
VERSION:2.0
PRODID:-//eventon.com NONSGML v1.0//EN
CALSCALE:GREGORIAN
METHOD:PUBLISH
BEGIN:VEVENT
UID:69e9813284522
DTSTAMP:20260423T021722Z
DTSTART:20220710T080000Z
DTEND:20220710T110000Z
LOCATION:Võru kesklinna park
SUMMARY:Kesklinna pargilava
DESCRIPTION:11.00 Leelokoor Helmekaala&#8217; 11.30 Segarahvatantsurühmad 
 Siisik ja Kannel 12.00 Tantsuõpituba &#8220;Moetantsud&#8221;. Tantse õpe
 tab Kadri Lepasson Festivali teema „Vana moodu perrä“ vaatab ajas taga
 si ja uurib\,  mis sadakond aastat tagasi moodne oli. Artur Adson on raamat
 us „Väikelinna moosekant“ meeleolukalt kirjeldanud möödunud sajandi 
 alguskümnendite kultuurielu Võrus ning ta kirjutab nii: „Moetantsudena 
 jõudsid[..]\nhttps://vorufolkloor.ee/events/kesklinna-pargilava-9/
URL:https://vorufolkloor.ee/events/kesklinna-pargilava-9/
END:VEVENT
END:VCALENDAR