BEGIN:VCALENDAR
VERSION:2.0
PRODID:-//eventon.com NONSGML v1.0//EN
CALSCALE:GREGORIAN
METHOD:PUBLISH
BEGIN:VEVENT
UID:69e747e46ca27
DTSTAMP:20260421T094820Z
DTSTART:20170707T160000Z
DTEND:20170707T205000Z
LOCATION:Kitsõ village\,  Meremäe municipality
SUMMARY:FESTIVAL GOES FOR A VISIT
DESCRIPTION:“Toska” (Macedonia)\nhttps://vorufolkloor.ee/events/festiva
 l-goes-for-a-visit-2/?lang=en
URL:https://vorufolkloor.ee/events/festival-goes-for-a-visit-2/?lang=en
END:VEVENT
END:VCALENDAR