BEGIN:VCALENDAR
VERSION:2.0
PRODID:-//eventon.com NONSGML v1.0//EN
CALSCALE:GREGORIAN
METHOD:PUBLISH
BEGIN:VEVENT
UID:69e9f9c3c04ea
DTSTAMP:20260423T105147Z
DTSTART:20220709T160000Z
DTEND:20220709T164500Z
LOCATION:A. Teppo Lõõtsatalu\,  Loosu küla\,  Võru vald
SUMMARY:Tantsuetendus "Suveseik"
DESCRIPTION:5.-9. juulil 2022 kogunevad noored rahvatantsijad üle Eesti Au
 gust Teppo lõõtsatallu Võrumaal\,  et ühiselt tantsida ja suve nautida.
  Selle tulemusel esietendub 8. juulil noortelavastus „Suveseik“\,  mill
 es lisaks tantsijatele löövad kaasa andekad rahvamuusikud Merili Murde ja
  Herbert Konnula. „Suveseika“ saab lisaks 8. juulile näha ka kahel kor
 ral 9. juulil. &nbsp; „Suveseik“[..]\nhttps://vorufolkloor.ee/events/ta
 ntsuetendus-suveseik-3/
URL:https://vorufolkloor.ee/events/tantsuetendus-suveseik-3/
END:VEVENT
END:VCALENDAR