BEGIN:VCALENDAR
VERSION:2.0
PRODID:-//eventon.com NONSGML v1.0//EN
CALSCALE:GREGORIAN
METHOD:PUBLISH
BEGIN:VEVENT
UID:69e9fa6c318a8
DTSTAMP:20260423T105436Z
DTSTART:20170707T084500Z
DTEND:20170707T120000Z
LOCATION:Garden on Kindergarten Päkapikk\,  Vabaduse str 15 a
SUMMARY:CHILDREN PLAYING GROUND
DESCRIPTION:CHILDREN PLAYING GROUND\nhttps://vorufolkloor.ee/events/childre
 n-playing-ground/?lang=en
URL:https://vorufolkloor.ee/events/children-playing-ground/?lang=en
END:VEVENT
END:VCALENDAR