BEGIN:VCALENDAR
VERSION:2.0
PRODID:-//eventon.com NONSGML v1.0//EN
CALSCALE:GREGORIAN
METHOD:PUBLISH
BEGIN:VEVENT
UID:69ecf6ea30159
DTSTAMP:20260425T171626Z
DTSTART:20170708T160000Z
DTEND:20170708T205000Z
LOCATION:Kohvik Taevas Katariina allee 6\,  Võru
SUMMARY:KODUKONTSERT
DESCRIPTION:Henrik Hinrikus – lõõtsamees Mooste metsade vahelt. Lemmikl
 ugudeks on 20. sajandi esimese poole rahvalikud laulud\,  mis jutustavad to
 lleaegsest armastusest\,  sõjavalust ja Eesti külade eluolust. Pilet 5€
 . Kuni 40 kohta.\nhttps://vorufolkloor.ee/events/kodukontsert-5/
URL:https://vorufolkloor.ee/events/kodukontsert-5/
END:VEVENT
END:VCALENDAR