BEGIN:VCALENDAR
VERSION:2.0
PRODID:-//eventon.com NONSGML v1.0//EN
CALSCALE:GREGORIAN
METHOD:PUBLISH
BEGIN:VEVENT
UID:69e74bd345603
DTSTAMP:20260421T100507Z
DTSTART:20170707T160000Z
DTEND:20170707T205000Z
LOCATION:Korneti\,  Veclaitsene vald\,  Läti Korneti\,  Veclaitsene
SUMMARY:Festival läheb külla
DESCRIPTION:Kud Mladost-Avala (Serbia).\nhttps://vorufolkloor.ee/events/fes
 tival-laheb-kulla/
URL:https://vorufolkloor.ee/events/festival-laheb-kulla/
END:VEVENT
END:VCALENDAR