BEGIN:VCALENDAR
VERSION:2.0
PRODID:-//eventon.com NONSGML v1.0//EN
CALSCALE:GREGORIAN
METHOD:PUBLISH
BEGIN:VEVENT
UID:69e747a259e59
DTSTAMP:20260421T094714Z
DTSTART:20210710T200000Z
DTEND:20210710T205000Z
LOCATION:Stedingu maja kohvik Kreutzwaldi 15
SUMMARY:FESTIVALIKLUBI
DESCRIPTION:&#8230;on koht vabalt musitseerimiseks\,  tantsu lÃ¶Ã¶miseks vÃ
 µi lihtsalt heaks Ã¤raolemiseks.\nhttps://vorufolkloor.ee/events/festivalik
 lubi-2/
URL:https://vorufolkloor.ee/events/festivaliklubi-2/
END:VEVENT
END:VCALENDAR