BEGIN:VCALENDAR
VERSION:2.0
PRODID:-//eventon.com NONSGML v1.0//EN
CALSCALE:GREGORIAN
METHOD:PUBLISH
BEGIN:VEVENT
UID:69e734b25a822
DTSTAMP:20260421T082626Z
DTSTART:20210709T180000Z
DTEND:20210709T205000Z
LOCATION:Võru Kannel aed Liiva 13\,  Võru
SUMMARY:TANTSUTUBA TEISTE RAHVASTE TANTSUD  - Iiri\,  Flaami\,  Ameerika
DESCRIPTION:Tantse õpetavad Kalev Järvela ja Rahvakultuuriselts Koidupuna
  tantsijad.  Rahvatantsurühm Koidupuna koondab endas rõõmsameelseid ja
  energilisi rahvatantsijaid\,  kelle repertuaaris on pärimustantsud ja -la
 ulud\,  lavatantsud ning ringmängud. Koidupuna sündis aastal 2008 kui hul
 k Tallinna Tehnikaülikooli Kammerkoori liikmeid soovisid lisaks laulupeole
  ka tantsupeost osa võtta. Tantsimine oli Kalev Järvela juhendamisel aga
  sedavõrd vahva\,  et algsest[..]\nhttps://vorufolkloor.ee/events/tantsutu
 ba-teiste-rahvaste-tantsud-iiri-flaami-ameerika/
URL:https://vorufolkloor.ee/events/tantsutuba-teiste-rahvaste-tantsud-iiri-flaami-ameerika/
END:VEVENT
END:VCALENDAR