BEGIN:VCALENDAR
VERSION:2.0
PRODID:-//eventon.com NONSGML v1.0//EN
CALSCALE:GREGORIAN
METHOD:PUBLISH
BEGIN:VEVENT
UID:69e5feed97fc4
DTSTAMP:20260420T102445Z
DTSTART:20190720T140000Z
DTEND:20190720T205000Z
LOCATION:Suur Munamägi\,  Haanja vald
SUMMARY:Välisrühm läheb külla
DESCRIPTION:Folkloorirühm Murseskem (Mari EI Vabariik)\nhttps://vorufolklo
 or.ee/events/valisruhm-laheb-kulla-7/
URL:https://vorufolkloor.ee/events/valisruhm-laheb-kulla-7/
END:VEVENT
END:VCALENDAR