BEGIN:VCALENDAR
VERSION:2.0
PRODID:-//eventon.com NONSGML v1.0//EN
CALSCALE:GREGORIAN
METHOD:PUBLISH
BEGIN:VEVENT
UID:69e7349d46ec5
DTSTAMP:20260421T082605Z
DTSTART:20190720T100000Z
DTEND:20190720T130000Z
LOCATION:Võru kindergarten Okasroosike yard
SUMMARY:CHILDREN'S PLAYGROUND
DESCRIPTION:CHILDREN'S PLAYGROUND\nhttps://vorufolkloor.ee/events/childrens
 -playground-5/?lang=en
URL:https://vorufolkloor.ee/events/childrens-playground-5/?lang=en
END:VEVENT
END:VCALENDAR