BEGIN:VCALENDAR
VERSION:2.0
PRODID:-//eventon.com NONSGML v1.0//EN
CALSCALE:GREGORIAN
METHOD:PUBLISH
BEGIN:VEVENT
UID:69e74783b52ee
DTSTAMP:20260421T094643Z
DTSTART:20190720T080000Z
DTEND:20190720T205000Z
LOCATION:Kohtumispaik Katariina kiriku ees
SUMMARY:JUTUJALUTUSKÄIK
DESCRIPTION:Võru arhitektuurilist  omapära tutvustab Oliver Orro\nhttps:
 //vorufolkloor.ee/events/jutujalutuskaik-4/
URL:https://vorufolkloor.ee/events/jutujalutuskaik-4/
END:VEVENT
END:VCALENDAR