BEGIN:VCALENDAR
VERSION:2.0
PRODID:-//eventon.com NONSGML v1.0//EN
CALSCALE:GREGORIAN
METHOD:PUBLISH
BEGIN:VEVENT
UID:69e74ba30501e
DTSTAMP:20260421T100419Z
DTSTART:20180706T160000Z
DTEND:20180706T205000Z
LOCATION:Meeksi küla Meeksi\,  Räpina vald\,  Põlvamaa
SUMMARY:Festival läheb külla (Meeksi)
DESCRIPTION:&nbsp; &nbsp; &nbsp;\nhttps://vorufolkloor.ee/events/festival-l
 aheb-kulla-13/
URL:https://vorufolkloor.ee/events/festival-laheb-kulla-13/
END:VEVENT
END:VCALENDAR