BEGIN:VCALENDAR
VERSION:2.0
PRODID:-//eventon.com NONSGML v1.0//EN
CALSCALE:GREGORIAN
METHOD:PUBLISH
BEGIN:VEVENT
UID:69e5e74a88544
DTSTAMP:20260420T084354Z
DTSTART:20170708T190000Z
DTEND:20170708T205000Z
LOCATION:VÃµru Kannel aed Liiva 13\,  VÃµru
SUMMARY:Simman
DESCRIPTION:Tantsuks mÃ¤ngib ansambel &#8220;Vanaviisi&#8220;. Â 1986. sÃ¼g
 isel kogus nimekas eesti muusik ja helilooja Gunnar Kriik kokku ansambli &#
 8220;Vanaviisi&#8221;\,  eesmÃ¤rgiga viljelda Eesti rahvalikku muusikat ja 
 rahvamuusika tÃ¶Ã¶tlusi. Ansambli sÃ¼nniaeg langes kokku eesti rahvusliku Ã
 ¤rkamisajaga ja laulva revolutsiooniga\,  sestap leidsid laia kÃµlapinna G.
  Kriigi rahvuslikud laulud\,  nÃ¤it. &#8220;Oma Maa&#8221;\,  &#8220;Juured
 &#8221; .&#8221;Eestimaa Laul&#8221; aga[..]\nhttps://vorufolkloor.ee/event
 s/simman/
URL:https://vorufolkloor.ee/events/simman/
END:VEVENT
END:VCALENDAR