BEGIN:VCALENDAR
VERSION:2.0
PRODID:-//eventon.com NONSGML v1.0//EN
CALSCALE:GREGORIAN
METHOD:PUBLISH
BEGIN:VEVENT
UID:69ea130dc97f0
DTSTAMP:20260423T123941Z
DTSTART:20170707T084500Z
DTEND:20170707T120000Z
LOCATION:Võru lasteaed Päkapikk õu Vabaduse 15a
SUMMARY:Laste mänguõu
DESCRIPTION:Festivali mütsinoka meisterdamise töötoad. Tasuta\nhttps://v
 orufolkloor.ee/events/laste-manguou/
URL:https://vorufolkloor.ee/events/laste-manguou/
END:VEVENT
END:VCALENDAR