BEGIN:VCALENDAR
VERSION:2.0
PRODID:-//eventon.com NONSGML v1.0//EN
CALSCALE:GREGORIAN
METHOD:PUBLISH
BEGIN:VEVENT
UID:69e9f73a1fd89
DTSTAMP:20260423T104058Z
DTSTART:20180707T123000Z
DTEND:20180707T140000Z
LOCATION:August Teppo Harmonium museum\,  Võru parish\,  Loosu
SUMMARY:Concertina stories at August Teppo home
DESCRIPTION:Concertina stories at August Teppo home\nhttps://vorufolkloor.e
 e/events/lootsalood-august-teppo-kodukohas-2/?lang=en
URL:https://vorufolkloor.ee/events/lootsalood-august-teppo-kodukohas-2/?lang=en
END:VEVENT
END:VCALENDAR