BEGIN:VCALENDAR
VERSION:2.0
PRODID:-//eventon.com NONSGML v1.0//EN
CALSCALE:GREGORIAN
METHOD:PUBLISH
BEGIN:VEVENT
UID:69e75d51703e8
DTSTAMP:20260421T111945Z
DTSTART:20180707T070000Z
DTEND:20180707T080000Z
LOCATION:Kreutzwaldi memoriaalmuuseumi õu
SUMMARY:Children's stage
DESCRIPTION:Folklore group SIpsik of Parksepa kindergarten Children&#8217;s
  group Hopser of Võru Coltural Centre Kannel Hour of children’s playing 
 and folk dancing. In case of rain\,  event will be in the small hall of Cul
 tural Center Kannel (Liiva street 13)\nhttps://vorufolkloor.ee/events/laste
 lava-2/?lang=en
URL:https://vorufolkloor.ee/events/lastelava-2/?lang=en
END:VEVENT
END:VCALENDAR