BEGIN:VCALENDAR
VERSION:2.0
PRODID:-//eventon.com NONSGML v1.0//EN
CALSCALE:GREGORIAN
METHOD:PUBLISH
BEGIN:VEVENT
UID:69e7460d4ddc6
DTSTAMP:20260421T094029Z
DTSTART:20190718T150000Z
DTEND:20190718T205000Z
LOCATION:Võru Kannel aed
SUMMARY:Opening concert of XXV Võru folklore festival
DESCRIPTION:Opening concert of XXV Võru folklore festival\nhttps://vorufol
 kloor.ee/events/xxiv-voru-parimustantsu-festivali-avakontsert/?lang=en
URL:https://vorufolkloor.ee/events/xxiv-voru-parimustantsu-festivali-avakontsert/?lang=en
END:VEVENT
END:VCALENDAR