BEGIN:VCALENDAR
VERSION:2.0
PRODID:-//eventon.com NONSGML v1.0//EN
CALSCALE:GREGORIAN
METHOD:PUBLISH
BEGIN:VEVENT
UID:69e613ef225ee
DTSTAMP:20260420T115423Z
DTSTART:20170706T180000Z
DTEND:20170706T205000Z
LOCATION:VÃµru vald\,  Juba kÃ¼la
SUMMARY:RÃ¼hmade Ãµhtu
DESCRIPTION:Tantsime kÃ¼lla tulnud vÃ¤lisrÃ¼hmade folkloorseid tantse ja TÃ
 ¤navatantsu tantse. Tasuta.\nhttps://vorufolkloor.ee/events/ruhmade-ohtu/
URL:https://vorufolkloor.ee/events/ruhmade-ohtu/
END:VEVENT
END:VCALENDAR