BEGIN:VCALENDAR
VERSION:2.0
PRODID:-//eventon.com NONSGML v1.0//EN
CALSCALE:GREGORIAN
METHOD:PUBLISH
BEGIN:VEVENT
UID:69e74c9550bb5
DTSTAMP:20260421T100821Z
DTSTART:20190720T083000Z
DTEND:20190720T205000Z
LOCATION:Võru kesklinna park
SUMMARY:TANTSUORIENTEERUMINE
DESCRIPTION:Tantsuorienteerumisel tantsitakse TÄNAVATANTSUL tantsitud 20 p
 ärimustantsu. Orienteeruda võivad kõik tantsuhuvilised meeskonnad (vähe
 malt 4 liiget). Orienteerumiskaardi järgi tuleb läbida 10 kontrollpunti\,
   igas punktis tantsitakse elava muusika saatel kaks pärimustantsu. Punkti
 des on õpetamisel abiks Võrumaa rahvatantsurühmade tantsupaarid. Iga tan
 tsuorienteerumise läbinu saab lõpp-punktis auhinnaks veelkord tantsida ne
 ile enim meeldinud tantsu.\nhttps://vorufolkloor.ee/events/tantsuorienteeru
 mine/
URL:https://vorufolkloor.ee/events/tantsuorienteerumine/
END:VEVENT
END:VCALENDAR