BEGIN:VCALENDAR
VERSION:2.0
PRODID:-//eventon.com NONSGML v1.0//EN
CALSCALE:GREGORIAN
METHOD:PUBLISH
BEGIN:VEVENT
UID:69e961664d551
DTSTAMP:20260423T000142Z
DTSTART:20180707T123000Z
DTEND:20180707T140000Z
LOCATION:A. Teppo Lõõtsatalu\,  Loosu küla\,  Võru vald
SUMMARY:LÕÕTSALOOD AUGUST TEPPO KODUKOHAS
DESCRIPTION:LÕÕTSALOOD AUGUST TEPPO KODUKOHAS\nhttps://vorufolkloor.ee/ev
 ents/lootsalood-august-teppo-kodukohas-2/
URL:https://vorufolkloor.ee/events/lootsalood-august-teppo-kodukohas-2/
END:VEVENT
END:VCALENDAR