BEGIN:VCALENDAR
VERSION:2.0
PRODID:-//eventon.com NONSGML v1.0//EN
CALSCALE:GREGORIAN
METHOD:PUBLISH
BEGIN:VEVENT
UID:69e745fce4a1d
DTSTAMP:20260421T094012Z
DTSTART:20180707T070000Z
DTEND:20180707T080000Z
LOCATION:Kreutzwaldi memoriaalmuuseumi õu Kreutzwaldi 31\,  Võru
SUMMARY:Lastelava
DESCRIPTION:Parksepa lasteaia folkloorirühm Sipsik Meie rühm on loodud se
 llel festivalil esinemiseks. Oleme küll lasteaias koos käinud juba põnni
 st peale\,  aga suurel laval esineme esimest korda. Käime kõik Parksepa l
 asteaias ja meie õpetaja on Heli Vestla.  Võru Kannel lasterühm Hopser 
 Laste pärimustantsu- ja mängutund &#8220;Paneelikate pärimusmängud&#822
 1;. Südamesõbrannad Maria (25) ja Marija[..]\nhttps://vorufolkloor.ee/eve
 nts/lastelava-2/
URL:https://vorufolkloor.ee/events/lastelava-2/
END:VEVENT
END:VCALENDAR