BEGIN:VCALENDAR
VERSION:2.0
PRODID:-//eventon.com NONSGML v1.0//EN
CALSCALE:GREGORIAN
METHOD:PUBLISH
BEGIN:VEVENT
UID:69e746386860e
DTSTAMP:20260421T094112Z
DTSTART:20240712T090000Z
DTEND:20240712T100000Z
LOCATION:Main stage
SUMMARY:International groups concert 1 and 2
DESCRIPTION:International groups concert 1 and 2\nhttps://vorufolkloor.ee/e
 vents/international-groups-concert-1-and-2/?lang=en
URL:https://vorufolkloor.ee/events/international-groups-concert-1-and-2/?lang=en
END:VEVENT
END:VCALENDAR