BEGIN:VCALENDAR
VERSION:2.0
PRODID:-//eventon.com NONSGML v1.0//EN
CALSCALE:GREGORIAN
METHOD:PUBLISH
BEGIN:VEVENT
UID:69e730e321a07
DTSTAMP:20260421T081011Z
DTSTART:20240713T100000Z
DTEND:20240713T103000Z
LOCATION:Talk and walk. Train ride with a guide.
SUMMARY:Train ride with a guide
DESCRIPTION:Train ride with a guide\nhttps://vorufolkloor.ee/events/train-r
 ide-with-a-guide-2/?lang=en
URL:https://vorufolkloor.ee/events/train-ride-with-a-guide-2/?lang=en
END:VEVENT
END:VCALENDAR