BEGIN:VCALENDAR
VERSION:2.0
PRODID:-//eventon.com NONSGML v1.0//EN
CALSCALE:GREGORIAN
METHOD:PUBLISH
BEGIN:VEVENT
UID:69e75dca2a28a
DTSTAMP:20260421T112146Z
DTSTART:20240713T070000Z
DTEND:20240713T080000Z
LOCATION:Main stage
SUMMARY:Dance workshop International group 1
DESCRIPTION:Dance workshop International group 1\nhttps://vorufolkloor.ee/e
 vents/dance-workshop-international-group-1/?lang=en
URL:https://vorufolkloor.ee/events/dance-workshop-international-group-1/?lang=en
END:VEVENT
END:VCALENDAR