BEGIN:VCALENDAR
VERSION:2.0
PRODID:-//eventon.com NONSGML v1.0//EN
CALSCALE:GREGORIAN
METHOD:PUBLISH
BEGIN:VEVENT
UID:69eb29c71ccdf
DTSTAMP:20260424T082855Z
DTSTART:20240713T140000Z
DTEND:20240713T153000Z
LOCATION:BARRUSE PEALAVA (Vabaduse väljak)
SUMMARY:Välisrühmade kontsert - LÄTI\,  TŠEHHI\,  USA
DESCRIPTION:Välisrühmade kontsert - LÄTI\,  TŠEHHI\,  USA\nhttps://voru
 folkloor.ee/events/valisruhmade-kontsert-ruhm-5-ja-6/
URL:https://vorufolkloor.ee/events/valisruhmade-kontsert-ruhm-5-ja-6/
END:VEVENT
END:VCALENDAR