BEGIN:VCALENDAR
VERSION:2.0
PRODID:-//eventon.com NONSGML v1.0//EN
CALSCALE:GREGORIAN
METHOD:PUBLISH
BEGIN:VEVENT
UID:69e7478335c1c
DTSTAMP:20260421T094643Z
DTSTART:20240713T070000Z
DTEND:20240713T080000Z
LOCATION:BARRUSE PEALAVA (Vabaduse väljak)
SUMMARY:BELGIA Tantsuõpituba
DESCRIPTION:Tantse õpetab folklooriansambel &#8220;Havermeuleke&#8221; (BE
 LGIA)\nhttps://vorufolkloor.ee/events/tantsuopituba-valisruhm-1/
URL:https://vorufolkloor.ee/events/tantsuopituba-valisruhm-1/
END:VEVENT
END:VCALENDAR